BEGIN:VCALENDAR
VERSION:2.0
PRODID:-//Morocco corporate golf cup - ECPv6.15.20//NONSGML v1.0//EN
CALSCALE:GREGORIAN
METHOD:PUBLISH
X-WR-CALNAME:Morocco corporate golf cup
X-ORIGINAL-URL:https://moroccocorporategolfcup.com
X-WR-CALDESC:Évènements pour Morocco corporate golf cup
REFRESH-INTERVAL;VALUE=DURATION:PT1H
X-Robots-Tag:noindex
X-PUBLISHED-TTL:PT1H
BEGIN:VTIMEZONE
TZID:UTC
BEGIN:STANDARD
TZOFFSETFROM:+0000
TZOFFSETTO:+0000
TZNAME:UTC
DTSTART:20250101T000000
END:STANDARD
END:VTIMEZONE
BEGIN:VEVENT
DTSTART;VALUE=DATE:20260328
DTEND;VALUE=DATE:20260410
DTSTAMP:20260423T111006
CREATED:20250427T133115Z
LAST-MODIFIED:20250826T170200Z
UID:1204-1774656000-1775779199@moroccocorporategolfcup.com
SUMMARY:4eme étape
DESCRIPTION:4400 Dh par équipe de 2 golfeurs / golfeuses \n\n08h15 = Accueil et Distribution des Goody Bags (Casquette\, Blles Ligotées\, Serviettes….)\n08h30 = Petit Déjeuner au Restaurant du Clubhouse\n09h00 = Briefing\n09h15 = Group Photo\n09h30 Départ de la compétition en SHOTGUN\nVers 14h00 = Déjeuner et cérémonie de remise des prix\nTrophées pour les gagnants de l’étape classés de 1 à 5 (Les 5 premières équipes gagnantes)\nLes 5 premières équipes (classées de 1 à 5 dans chaque étape) seront qualifiées pour jouer la Finale Nationale le samedi 6 juin à Marrakech)
URL:https://moroccocorporategolfcup.com/event/4eme-etape/
LOCATION:ROYAL GOLF FES\, ROYAL GOLF FES\, FES\, Morocco
CATEGORIES:Advanced
ATTACH;FMTTYPE=image/jpeg:https://moroccocorporategolfcup.com/wp-content/uploads/2022/06/image-15-copyright.jpg
END:VEVENT
BEGIN:VEVENT
DTSTART;VALUE=DATE:20260214
DTEND;VALUE=DATE:20260222
DTSTAMP:20260423T111006
CREATED:20250426T135723Z
LAST-MODIFIED:20250826T170219Z
UID:1210-1771027200-1771718399@moroccocorporategolfcup.com
SUMMARY:3eme étape
DESCRIPTION:5500 Dh par équipe de 2 golfeurs / golfeuses \n\n08h15 = Accueil et Distribution des Goody Bags (Casquette\, Blles Ligotées\, Serviettes….)\n08h30 = Petit Déjeuner au Restaurant du Clubhouse\n09h00 = Briefing\n09h15 = Group Photo\n09h30 Départ de la compétition en SHOTGUN\nVers 14h00 = Déjeuner et cérémonie de remise des prix\nTrophées pour les gagnants de l’étape classés de 1 à 5 (Les 5 premières équipes gagnantes)\nLes 5 premières équipes (classées de 1 à 5 dans chaque étape) seront qualifiées pour jouer la Finale Nationale le samedi 6 juin à Marrakech)
URL:https://moroccocorporategolfcup.com/event/3eme-etape/
LOCATION:ROYAL GOLF DAR ES SALAM\, ROYAL GOLF DAR ES SALAM\, RABAT\, Morocco
CATEGORIES:Advanced
ATTACH;FMTTYPE=image/jpeg:https://moroccocorporategolfcup.com/wp-content/uploads/2020/04/image-33-copyright.jpg
END:VEVENT
BEGIN:VEVENT
DTSTART;VALUE=DATE:20260131
DTEND;VALUE=DATE:20260209
DTSTAMP:20260423T111006
CREATED:20200428T140044Z
LAST-MODIFIED:20250826T162358Z
UID:1213-1769817600-1770595199@moroccocorporategolfcup.com
SUMMARY:2eme étape
DESCRIPTION:5500 Dh par équipe de 2 golfeurs / golfeuses \n\n08h15 = Accueil et Distribution des Goody Bags (Casquette\, Blles Ligotées\, Serviettes…. )\n08h30 = Petit Déjeuner au Restaurant du Clubhouse\n09h00 = Briefing\n09h15 = Group Photo\n09h30 Départ de la compétition en SHOTGUN\nVers 14h00 = Déjeuner et cérémonie de remise des prix\nTrophées pour les gagnants de l’étape classés de 1 à 5 (Les 5 premières équipes gagnantes)\nLes 5 premières équipes (classées de 1 à 5 dans chaque étape) seront qualifiées pour jouer la Finale Nationale le samedi 6 juin à Marrakech)
URL:https://moroccocorporategolfcup.com/event/2eme-etape/
LOCATION:MAZAGAN GOLF CLUB\, MAZAGAN GOLF CLUB\, EL JADIDA\, Morocco
CATEGORIES:Advanced
ATTACH;FMTTYPE=image/jpeg:https://moroccocorporategolfcup.com/wp-content/uploads/2022/06/image-29-copyright.jpg
END:VEVENT
BEGIN:VEVENT
DTSTART;VALUE=DATE:20260124
DTEND;VALUE=DATE:20260129
DTSTAMP:20260423T111006
CREATED:20200428T132335Z
LAST-MODIFIED:20250826T161438Z
UID:1196-1769212800-1769644799@moroccocorporategolfcup.com
SUMMARY:1ere étape
DESCRIPTION:4800 Dh par équipe de 2 golfeurs / golfeuses\n• 08h15 = Accueil et Distribution des Goody Bags (Casquette\, Blles Ligotées\,\nServiettes….)\n• 08h30 = Petit Déjeuner au Restaurant du Clubhouse\n• 09h00 = Briefing\n• 09h15 = Group Photo\n• 09h30 Départ de la compétition en SHOTGUN\n• Vers 14h00 = Déjeuner et cérémonie de remise des prix\n• Trophées pour les gagnants de l’étape classés de 1 à 5 (Les 5 premières\néquipes gagnantes) \n• Les 5 premières équipes (classées de 1 à 5 dans chaque étape) seront\nqualifiées pour jouer la Finale Nationale le samedi 6 juin à Marrakech)
URL:https://moroccocorporategolfcup.com/event/1ere-etape/
LOCATION:NORIA GOLF CLUB\, NORIA GOLF CLUB\, MARRAKECH\, Morocco
CATEGORIES:Advanced
ATTACH;FMTTYPE=image/jpeg:https://moroccocorporategolfcup.com/wp-content/uploads/2022/06/image-31-copyright.jpg
END:VEVENT
BEGIN:VEVENT
DTSTART;VALUE=DATE:20260411
DTEND;VALUE=DATE:20260412
DTSTAMP:20260423T111006
CREATED:20250428T132125Z
LAST-MODIFIED:20250826T170125Z
UID:1194-1775865600-1775951999@moroccocorporategolfcup.com
SUMMARY:5eme étape
DESCRIPTION:4500 Dh par équipe de 2 golfeurs / golfeuses \n\n08h15 = Accueil et Distribution des Goody Bags (Casquette\, Blles Ligotées\, Serviettes….)\n08h30 = Petit Déjeuner au Restaurant du Clubhouse\n09h00 = Briefing\n09h15 = Group Photo\n09h30 Départ de la compétition en SHOTGUN\nVers 14h00 = Déjeuner et cérémonie de remise des prix\nTrophées pour les gagnants de l’étape classés de 1 à 5 (Les 5 premières équipes gagnantes)\nLes 5 premières équipes (classées de 1 à 5 dans chaque étape) seront qualifiées pour jouer la Finale Nationale le samedi 6 juin à Marrakech)
URL:https://moroccocorporategolfcup.com/event/5eme-etape/
LOCATION:TONY JACKLIN CASABLANCA GOLF CLUB\, TONY JACKLIN CASABLANCA GOLF CLUB\, CASABLANCA\, Morocco
CATEGORIES:Advanced
ATTACH;FMTTYPE=image/jpeg:https://moroccocorporategolfcup.com/wp-content/uploads/2022/06/image-9-copyright.jpg
END:VEVENT
BEGIN:VEVENT
DTSTART;VALUE=DATE:20260502
DTEND;VALUE=DATE:20290503
DTSTAMP:20260423T111006
CREATED:20250430T140523Z
LAST-MODIFIED:20250826T170143Z
UID:1215-1777680000-1872460799@moroccocorporategolfcup.com
SUMMARY:6eme étape
DESCRIPTION:4800 Dh par équipe de 2 golfeurs / golfeuses \n\n08h15 = Accueil et Distribution des Goody Bags (Casquette\, Blles Ligotées\, Serviettes….)\n08h30 = Petit Déjeuner au Restaurant du Clubhouse\n09h00 = Briefing\n09h15 = Group Photo\n09h30 Départ de la compétition en SHOTGUN\nVers 14h00 = Déjeuner et cérémonie de remise des prix\nTrophées pour les gagnants de l’étape classés de 1 à 5 (Les 5 premières équipes gagnantes)\nLes 5 premières équipes (classées de 1 à 5 dans chaque étape) seront qualifiées pour jouer la Finale Nationale le samedi 6 juin à Marrakech)
URL:https://moroccocorporategolfcup.com/event/6eme-etape/
LOCATION:ROYAL GOLF CLUB TANGER\, ROYAL GOLF CLUB TANGER\, TANGER\, Morocco
CATEGORIES:Advanced
ATTACH;FMTTYPE=image/jpeg:https://moroccocorporategolfcup.com/wp-content/uploads/2022/06/image-2-copyright.jpg
END:VEVENT
END:VCALENDAR